BEGIN:VCALENDAR
VERSION:2.0
PRODID:-//Australian Olive Association - ECPv6.15.20//NONSGML v1.0//EN
CALSCALE:GREGORIAN
METHOD:PUBLISH
X-WR-CALNAME:Australian Olive Association
X-ORIGINAL-URL:https://australianolives.com.au
X-WR-CALDESC:Events for Australian Olive Association
REFRESH-INTERVAL;VALUE=DURATION:PT1H
X-Robots-Tag:noindex
X-PUBLISHED-TTL:PT1H
BEGIN:VTIMEZONE
TZID:Australia/Melbourne
BEGIN:STANDARD
TZOFFSETFROM:+1100
TZOFFSETTO:+1000
TZNAME:AEST
DTSTART:20250405T160000
END:STANDARD
BEGIN:DAYLIGHT
TZOFFSETFROM:+1000
TZOFFSETTO:+1100
TZNAME:AEDT
DTSTART:20251004T160000
END:DAYLIGHT
BEGIN:STANDARD
TZOFFSETFROM:+1100
TZOFFSETTO:+1000
TZNAME:AEST
DTSTART:20260404T160000
END:STANDARD
BEGIN:DAYLIGHT
TZOFFSETFROM:+1000
TZOFFSETTO:+1100
TZNAME:AEDT
DTSTART:20261003T160000
END:DAYLIGHT
BEGIN:STANDARD
TZOFFSETFROM:+1100
TZOFFSETTO:+1000
TZNAME:AEST
DTSTART:20270403T160000
END:STANDARD
BEGIN:DAYLIGHT
TZOFFSETFROM:+1000
TZOFFSETTO:+1100
TZNAME:AEDT
DTSTART:20271002T160000
END:DAYLIGHT
END:VTIMEZONE
BEGIN:VEVENT
DTSTART;TZID=Australia/Melbourne:20260525T080000
DTEND;TZID=Australia/Melbourne:20260525T170000
DTSTAMP:20260424T102259
CREATED:20260413T110623Z
LAST-MODIFIED:20260413T111416Z
UID:10000010-1779696000-1779728400@australianolives.com.au
SUMMARY:Tastebook® EVOO Sensory Training
DESCRIPTION:As a grower\, your work in the grove culminates in the complex profile of your oil. But do you know how to truly appreciate the results? \nThis training opportunity is designed specifically for new and experienced olive industry participants who want to deepen their understanding of Extra Virgin Olive Oil (EVOO) by focusing on the positive sensory characteristics that define a premium product. \nThis guided at-home tasting workshop is led by Trudie Michels\, the highly acclaimed Event Convenor and Chief Steward of the Australian International Olive Awards. A professional assessor of extra virgin olive oil since 2003\, Trudie brings over two decades of sensory expertise to this training. \n  \n\nThe Sensory Calibration Kit \nEvery registrant will receive a curated EVOO Tasting Pack delivered to their door. Designed as a standalone tool\, this kit allows participants to progress through the material at their own convenience. The training includes: \n\nA Selection of Oils: Hand-picked EVOO samples representing different cultivars and styles\nExpert Feedback Sheets: Each sample comes with a sealed “Master Taster’s Profile.”  These notes allow you to compare your own tasting experience and notes with a professional benchmark for each oil in real-time\, helping you calibrate your palate and understand exactly what to look for in your own oils.\nTasting Technique: We’ll email you a link to a video on professional EVOO tasting (internet access required).\n\nTraining Focus: Detecting Excellence \nLearn to identify the pillars of high-quality EVOO: \n\nFruitiness: Clarity\, Freshness and intensity\, green\, spice\, floral\, tropical\nBitterness\, Pungency: Balance\nMouthfeel and texture: Attractive or harsh\nLength\, persistence and finish: long and luscious or disappears quickly?\nHarmony and complexity \n\nCost \nAOA members: $125 inc GST\, Non-members: $150 inc GST. Registrations close 15 May 2026. \nScroll below to purchase tickets. \nEssential Information for Registrants \n\nLocation: This training is limited to Australian-based participants only.\nCourse Confirmation: This training requires 10 participants to proceed; otherwise\, a full refund will be provided.\nDelivery Timeline: Your tasting kit (samples and feedback notes) will be dispatched starting May 25.\nTime Investment – If completed in one session\, the training should take no longer than one hour.\nImmediate Care: To prevent oxidation\, store your unopened kit in a cool\, dark cupboard immediately upon arrival. Do not open the samples until the start of the training.\n\n\n \nAbout Tastebook® \nIf you haven’t participated before\, Tastebook® is the Australian Olive Association’s premier sensory training platform. This program provides the palate calibration and sensory experience needed to understand and appreciate all things olives. By tasting and evaluating a range of EVOO and table olives\, you will learn to accurately describe characteristics and gain the insights needed to push your products toward industry-leading quality. Learn more about Tastebook® here
URL:https://australianolives.com.au/event/tastebook-evoo-sensory-training/
CATEGORIES:Tastebook training
ATTACH;FMTTYPE=image/png:https://australianolives.com.au/wp-content/uploads/2026/04/Tastebook-Apr26-1080x1080-1.png
END:VEVENT
END:VCALENDAR